BEGIN:VCALENDAR
VERSION:2.0
PRODID:-//pretix//pretix.eu//
BEGIN:VTIMEZONE
TZID:Europe/Berlin
BEGIN:STANDARD
DTSTART:20001029T040000
RRULE:FREQ=YEARLY;BYDAY=-1SU;BYMONTH=10
TZNAME:CET
TZOFFSETFROM:+0200
TZOFFSETTO:+0100
END:STANDARD
BEGIN:DAYLIGHT
DTSTART:20000326T030000
RRULE:FREQ=YEARLY;BYDAY=-1SU;BYMONTH=3
TZNAME:CEST
TZOFFSETFROM:+0100
TZOFFSETTO:+0200
END:DAYLIGHT
END:VTIMEZONE
BEGIN:VEVENT
UID:pretix-acatrain-rechtsschutz26-0@tickets.acatrain.net
DTSTART;TZID=Europe/Berlin:20260508T091500
DTEND;TZID=Europe/Berlin:20260508T101500
DESCRIPTION:Tickets: https://tickets.acatrain.net/rechtsschutz26/\nVeransta
 lter: Acatrain e.V.
DTSTAMP:20260422T163427Z
LOCATION:Universitätsbibliothek "Georgius Agricola"\, Winklerstraße 3\, H
 örsaal UBH-0205
SUMMARY:42. Freiberger Seminar zur Praxis des Gewerblichen Rechtsschutzes
END:VEVENT
END:VCALENDAR
